BEGIN:VCALENDAR
VERSION:2.0
PRODID:-//オヨヨ書林　古書買い取り、蔵書整理のご相談お気軽にお問い合わせください。　石川県金沢市 - ECPv6.15.20//NONSGML v1.0//EN
CALSCALE:GREGORIAN
METHOD:PUBLISH
X-WR-CALNAME:オヨヨ書林　古書買い取り、蔵書整理のご相談お気軽にお問い合わせください。　石川県金沢市
X-ORIGINAL-URL:https://oyoyoshorin.net
X-WR-CALDESC:オヨヨ書林　古書買い取り、蔵書整理のご相談お気軽にお問い合わせください。　石川県金沢市 のイベント
REFRESH-INTERVAL;VALUE=DURATION:PT1H
X-Robots-Tag:noindex
X-PUBLISHED-TTL:PT1H
BEGIN:VTIMEZONE
TZID:Asia/Tokyo
BEGIN:STANDARD
TZOFFSETFROM:+0900
TZOFFSETTO:+0900
TZNAME:JST
DTSTART:20220101T000000
END:STANDARD
END:VTIMEZONE
BEGIN:VEVENT
DTSTART;VALUE=DATE:20260416
DTEND;VALUE=DATE:20260420
DTSTAMP:20260424T173325
CREATED:20251221T091622Z
LAST-MODIFIED:20251221T091721Z
UID:364935-1776297600-1776643199@oyoyoshorin.net
SUMMARY:出店します：全ニッポン古本博覧会
DESCRIPTION:「全ニッポン古本博覧会 in 千代田のさくらまつり」 \n日程：2026年4月16日（木）～4月19日（日） \n時間：11:00～17:00（最終日は16:00終了） \n会場：神田神保町古書店街／東京古書会館／小川広場 \n入場料：無料 \nイベント特設Webサイト：http://kosho.jomo-p.net/furuhaku/ \n主催：神田古書店連盟 \n後援：千代田区／読売新聞社／東京都古書籍商業協同組合／全国古書籍商組合連合会 \nメインビジュアル：YOUCHAN（トゴルアートワークス）
URL:https://oyoyoshorin.net/event/furuhaku2026/
LOCATION:東京古書会館
CATEGORIES:イベントのご案内,古本市,出店・出品します
ATTACH;FMTTYPE=image/png:https://oyoyoshorin.net/wp-content/uploads/2025/12/160990-13-718018d9749b72244267759310484c98-978x1382-1.png
END:VEVENT
BEGIN:VEVENT
DTSTART;VALUE=DATE:20260131
DTEND;VALUE=DATE:20260302
DTSTAMP:20260424T173325
CREATED:20260106T011141Z
LAST-MODIFIED:20260106T012710Z
UID:364956-1769817600-1772409599@oyoyoshorin.net
SUMMARY:出店します：うつのみや書店・冬の古書市 @ クラソプレイス香林坊・地下一階
DESCRIPTION:恒例「うつのみや書店の古書市」を開催いたします。 \n小説、趣味・料理などの実用書、郷土の本、懐かしい雑誌、美術書… 入手困難な絶版本や、貴重な郷土史料、豪華な画集など、多数出品します。 \n好評につき、例年より催事期間を拡大しての開催です。\nぜひお立寄りください。 \n  \n会期：2026年1月31日（土） 〜 3月1日（日）\n会場：うつのみや書店 金沢香林坊店\n金沢市香林坊 2-1-1 　クラソプレイス香林坊 B1F\n営業時間 10:00 ~ 20:00\nTEL : 076-234-8111 \n参加書店：一誠堂能瀬書店、オヨヨ書林、古書ダックビル \n 
URL:https://oyoyoshorin.net/event/utsunomiya202601/
LOCATION:うつのみや書店 金沢香林坊店\, 香林坊 2-1-1 香林坊東急スクエア B1F\, 金沢市\, 石川県\, 日本
CATEGORIES:イベントのご案内,古本市,出店・出品します
ATTACH;FMTTYPE=image/jpeg:https://oyoyoshorin.net/wp-content/uploads/2026/01/うつのみや古書市2026.jpeg
END:VEVENT
BEGIN:VEVENT
DTSTART;VALUE=DATE:20251224
DTEND;VALUE=DATE:20251230
DTSTAMP:20260424T173325
CREATED:20251214T045902Z
LAST-MODIFIED:20251214T045929Z
UID:364921-1766534400-1767052799@oyoyoshorin.net
SUMMARY:出店します：冬の阪神 古書の市 2025 @ 阪神梅田本店8階催場
DESCRIPTION:冬の阪神 古書の市 \n日時：12月24日（水）〜12月29日（月）\n会場：阪神梅田本店 8階催場 \n昭和100年の締めくくりに、古書と過ごす時間はいかが。\nあの頃に出会える書籍や漫画、雑誌がずらり。 \n会期後半に「歳末感謝ワゴンセール！」\n12月27日(土)→29日(月) \n土日月の３日間限定開催！あれもこれも、税込300円均一！ \n  \n【出店一覧】\n〈大阪〉くらしと本のみせ スウス / シアル / 栞書房 / 寸心堂書店 / 大吉堂 / 矢野書房 / 矢野書房 天満橋店\n〈京都〉空き瓶ブックス / 開風社 待賢ブックセンター / 古書思いの外 / 古書ダンデライオン / マヤルカ古書店\n〈兵庫〉八上書林 / 花森書林 / ハニカムブックス* / 古本四ツ目屋 / ワールドエンズ・ガーデン\n〈三重〉古本屋ぽらん\n〈愛知〉あとり文庫 / まなみ古書店\n〈岐阜〉徒然舎\n〈石川〉オヨヨ書林\n〈富山〉古書さいとう / 古本いるふ
URL:https://oyoyoshorin.net/event/hanshin2025_12/
CATEGORIES:イベントのご案内,古本市,出店・出品します
ATTACH;FMTTYPE=image/png:https://oyoyoshorin.net/wp-content/uploads/2025/12/mv.png
END:VEVENT
BEGIN:VEVENT
DTSTART;VALUE=DATE:20251205
DTEND;VALUE=DATE:20251215
DTSTAMP:20260424T173325
CREATED:20251105T215210Z
LAST-MODIFIED:20251105T215303Z
UID:364832-1764892800-1765756799@oyoyoshorin.net
SUMMARY:出店します：四条寺町デパ地下古本市 2025.12.5-12.14 @ 藤井大丸（京都）
DESCRIPTION:四条寺町デパ地下古本市 \n2025年12月5日(金)〜12月14日(日)　10:30-20:00 \n藤井大丸 地下1階 イベントスペース\n京都市下京区寺町通四条下ル貞安前之町605番地\nhttps://www.fujiidaimaru.co.jp/ \n参加店：\n空き瓶Books (京都)\nありの文庫 (京都)\nLVDB BOOKS (大阪)\n古書 思いの外 (京都)\nオヨヨ書林 (金沢)\nON THE BOOKS (大阪)\n開風社 待賢ブックセンター (京都)\n小町書店 (大阪)\n古書さいとう (富山)\n寸心堂書店 (大阪)\nぜんまい (奈良)\n大吉堂 (大阪)\n古書ダンデライオン (京都)\n古書 灯台 (福井)\n八上書林 (丹波篠山)\n半月舎 (彦根)\n古本屋ぽらん (伊勢)\nまなみ古書店 (名古屋)\nら・むだ書店 (大阪)\n古書肆 梁山泊 (大阪)\n古本屋ワールドエンズ・ガーデン (神戸)
URL:https://oyoyoshorin.net/event/fujidai_202512/
CATEGORIES:イベントのご案内,古本市,出店・出品します
ATTACH;FMTTYPE=image/jpeg:https://oyoyoshorin.net/wp-content/uploads/2025/11/おもて-1.jpg
END:VEVENT
BEGIN:VEVENT
DTSTART;VALUE=DATE:20251025
DTEND;VALUE=DATE:20251027
DTSTAMP:20260424T173325
CREATED:20250911T003016Z
LAST-MODIFIED:20250911T003016Z
UID:364614-1761350400-1761523199@oyoyoshorin.net
SUMMARY:出店します：SABAE BOOK FES 2025  ＠ 鯖江市文化の館
DESCRIPTION:SABAE BOOK FES 2025 〜本好きをくすぐれ！古書こしょフェス〜\n  \n開催日時：令和7年10月25日（土曜日）11時00分～16時30分\n10月26日（日曜日）10時00分～16時00分 \n会場：鯖江市文化の館前交流広場、多目的ホールなど文化の館全館を使ってのイベント開催\n（雨天時：すべてのイベントを館内で開催） \n主催：SABAE BOOK FES 実行委員会\n共催：鯖江市図書館\n後援：鯖江市、鯖江市教育委員会、福井新聞社、こしの都ネットワーク \n古書店コーナー\n・古書好文堂〔福井市〕\n・メアリ書房〔福井市〕\n・アテネ堂古書店〔福井市〕\n・中央書林〔福井市〕\n・古書灯台〔福井市〕\n・近八書房〔金沢市〕\n・オヨヨ書林〔金沢市〕\n・古本一刻館〔金沢市〕\n・古書さいとう〔富山市〕\n・半月舎〔彦根市〕 \n編集出版社コーナー\n・福井新聞社〔福井市〕10/25のみ\n・勝木書店〔福井市〕\n・橋本確文堂　本つく～る〔金沢市〕\n・桂書房〔富山市〕\n・HOSHIDO〔大野市〕10/26のみ\n・katsura books〔東京都新宿区〕 \n独立系書店コーナー\n・じっぷじっぷ〔福井市〕10/26のみ\n・富士書店〔鯖江市〕10/26のみ\n・小豆書房〔池田町〕\n・NYANCAFE-BOOKS〔金沢市〕\n・AKUSHU BOOK＆BASE〔福井市〕10/25のみ\n・A Sleep Store〔坂井市〕10/25のみ\n・meruhon〔鯖江市〕\n・心のことば〔福井市〕10/25のみ \n無料配布コーナー\n・鯖江市図書館･･･除籍した図書館の本\n・古本0円市 \n一箱古本市\n・ARU福井花堂支店　10/25のみ\n・九助文庫（くすけぶんこ）　10/26のみ\n・D＋古書店（ディープラスこしょてん）\n・楡の木（にれのき）　10/25のみ\n・にんじんふぁーむ\n・ファンシーファニー　10/25のみ\n・BOOK BOOK屋\n・わがやのたんす　 10/25のみ \nその他のコーナー\n・文具コーナー\n・PRコーナー･･･福井鉄道、藤田書店、こどもまんなか課\n・雑誌スポンサーコーナー \nフード\n・アトリエペルシュ\n・こっしぇるん。かふぇ\n・米粉シフォン ここの輪 \nイベント\n・さばえすごろく\n・工作会･･･10/25（1）11時から（2）14時半から\n10/26（1）11時から（2）14時から（おはなし会の後）\n・おはなし会･･･10/26の工作会の時間\n・れされさ☆さがしっこクイズ\n・本のお楽しみ袋\n・フォトスポット\n・DJブース　（DJ上坂朋也） \nトークイベント\n10/25　13時30分から\n講師：蒼田山（あおたやま）氏･･･ビジネス漫画家、福井情報ITクリエイター校漫画コース講師\n「漫画家は❝どこでも❞働ける」～デジタル時代の仕事の現場～\n進行：重盛政史氏（FBCアナウンサー）\n交流広場/参加無料 \nブックフェスdeシネマ\n両日　10時から13時\n「鯖江のお宝　映像・画像で綴る鯖江」上映\n★★★★★★★★★★★★★★★★★★★★\n10/26　13時30分から\n「ノッティングヒルの恋人」上映\n★★★★★★★★★★★★★★★★★★★★\n多目的ホール/入場無料 \nその他にもいろいろなイベントを計画中です\n随時情報発信していきますのでお楽しみに！
URL:https://oyoyoshorin.net/event/sabae_book_fes_2025/
LOCATION:鯖江市文化の館
CATEGORIES:イベントのご案内,古本市,出店・出品します
ATTACH;FMTTYPE=image/jpeg:https://oyoyoshorin.net/wp-content/uploads/2025/09/カラーポスター・ちらし②-2.jpg
END:VEVENT
BEGIN:VEVENT
DTSTART;VALUE=DATE:20250910
DTEND;VALUE=DATE:20250916
DTSTAMP:20260424T173325
CREATED:20250910T125225Z
LAST-MODIFIED:20250910T125225Z
UID:364609-1757462400-1757980799@oyoyoshorin.net
SUMMARY:出店します：第２回松菱古本市 @ 津市
DESCRIPTION:第２回松菱古本市\n2025年9月10日（水）〜15日（月）\n松菱 6階/催事場（津市） \n午前10時〜午後6時30分 \n※最終日は午後5時にて閉場いたします。 \n総数約5万冊の多様なジャンルの古本が松菱に集結!! \n主なジャンル（一部抜粋）\n・三重県郷土史\n・自然の本\n・建築・アート・デザイン\n・サブカルチャー\n・料理・手芸\n・写真集\n・絵本・雑誌\n・古書全般\n・人文・文学\n・海外文学 \n出店者のご案内\n・山田堂（桑名市）\n・ブックハウスひびうた（津市）\n・古本屋ぽらん（伊勢市）\n・古書からすうり（名張市）\n・トンガ坂文庫（尾鷲市）\n・あとり文庫（名古屋市）\n・まなみ古書店（名古屋市）\n・フラワーハピネス（名古屋市）\n・徒然舎（岐阜市） ※出店中止となりました\n・オヨヨ書林（金沢市）\n・古本いるふ（滑川市）\n・古書さいとう（富山市）\n・半月舎（彦根市）\n・開風社 待賢ブックセンター（京都市）\n・マヤルカ古書店（京都市）\n・古書思いの外（京都市）\n・空き瓶Books(京都市)\n・ON THE BOOKS（大阪市）\n・矢野書房（大阪市）\n・矢野書房天満橋店（大阪市）\n・栞書房（大阪市）\n・古本屋ワールドエンズガーデン（神戸市）\n・八上書林（丹波篠山市）
URL:https://oyoyoshorin.net/event/matsubishi2025/
CATEGORIES:イベントのご案内,古本市
ATTACH;FMTTYPE=image/jpeg:https://oyoyoshorin.net/wp-content/uploads/2025/09/松菱古本市20251.jpg
END:VEVENT
BEGIN:VEVENT
DTSTART;VALUE=DATE:20250820
DTEND;VALUE=DATE:20250826
DTSTAMP:20260424T173325
CREATED:20250722T222353Z
LAST-MODIFIED:20250723T103111Z
UID:357211-1755648000-1756166399@oyoyoshorin.net
SUMMARY:出店します：2025 夏の阪神 古書ノ市 @ 阪神百貨店梅田本店
DESCRIPTION:阪神百貨店・夏の阪神古書ノ市 \n日時：2025年8月20日（水）〜 25日（月）\n会場：阪神百貨店梅田本店 8階催場 \n文庫本から文学書や美術書、趣味、漫画などバラエティ豊かな古書が１０万部！ \n日本の郷土文化や、時代を彩ったアイテムの特集や、\nメインビジュアルを手掛けた絵本作家rekkoも出店と盛りだくさんです♪ \n【出店店舗一覧】（50音順） \n〈大阪〉 \n●池﨑書店 \n●古書ゆうらく \n●シアル \n●栞書房 \n●SUS ～くらしと本のみせ スウス～ \n●寸心堂書店 \n●大吉堂 \n●toi books \n●ハモニカ古書店 \n●矢野書房 \n●矢野書房天満橋店 \n〈京都〉 \n●空き瓶Books \n●古書ダンデライオン \n●マヤルカ古書店 \n〈兵庫〉 \n●清泉堂書店 \n●八上書林 \n●花森書林 \n●honeycombBOOKS* \n●古本四ツ目屋 \n●ワールドエンズ・ガーデン \n〈滋賀〉 \n●クロックワーク \n〈三重〉 \n●古本屋ぽらん \n〈岐阜〉 \n●徒然舎 \n〈愛知〉 \n●まなみ古書店 \n〈石川〉 \n●オヨヨ書林 \n〈富山〉 \n●古書さいとう \n●古本いるふ \n■rekko【絵本（新本）、雑貨】
URL:https://oyoyoshorin.net/event/hanshin_2025summer/
LOCATION:阪神梅田本店 8階催場\, 北区梅田１丁目１３−１３\, 大阪市\, 大阪府\, 日本
CATEGORIES:イベントのご案内,古本市,出店・出品します
ATTACH;FMTTYPE=image/jpeg:https://oyoyoshorin.net/wp-content/uploads/2025/07/7e629b3e5c56f262abfb1e9303e5c9ad3f830b18.jpg
END:VEVENT
BEGIN:VEVENT
DTSTART;VALUE=DATE:20250816
DTEND;VALUE=DATE:20251006
DTSTAMP:20260424T173325
CREATED:20250703T224917Z
LAST-MODIFIED:20250703T224917Z
UID:347952-1755302400-1759708799@oyoyoshorin.net
SUMMARY:出店します：うつのみや書店・夏の古書市 @ クラソプレイス香林坊・地下一階
DESCRIPTION:恒例「うつのみや書店の古書市」を開催いたします。 \n小説、趣味・料理などの実用書、郷土の本、懐かしい雑誌、美術書… 入手困難な絶版本や、貴重な郷土史料、豪華な画集など、多数出品します。 \n好評につき、例年より催事期間を拡大しての開催です。\nぜひお立寄りください。 \n  \n会期：2025年8月16日（土） 〜 10月5日（日）\n会場：うつのみや書店 金沢香林坊店\n金沢市香林坊 2-1-1 　クラソプレイス香林坊 B1F\n営業時間 10:00 ~ 20:00\nTEL : 076-234-8111 \n参加書店：一誠堂能瀬書店、オヨヨ書林、古書ダックビル \n 
URL:https://oyoyoshorin.net/event/utsunomiya2025summer/
LOCATION:うつのみや書店 金沢香林坊店\, 香林坊 2-1-1 香林坊東急スクエア B1F\, 金沢市\, 石川県\, 日本
CATEGORIES:イベントのご案内,古本市,出店・出品します
ATTACH;FMTTYPE=image/jpeg:https://oyoyoshorin.net/wp-content/uploads/2025/07/うつのみや古書市5_1.jpeg
END:VEVENT
BEGIN:VEVENT
DTSTART;VALUE=DATE:20250809
DTEND;VALUE=DATE:20250811
DTSTAMP:20260424T173325
CREATED:20250723T104234Z
LAST-MODIFIED:20250723T104336Z
UID:357217-1754697600-1754870399@oyoyoshorin.net
SUMMARY:出品します： こどもの絵本 こしょこしょ市（水戸芸術館　こども・こらぼ・らぼ 2025）
DESCRIPTION:こどもの絵本「こしょこしょ市」\n子どもと大人が楽しめる、絵本の古本市。\nデザインやアート、文芸、暮らしの本も。 \n日時｜2025年8月9日（土）、10日（日）\n10:00～16:30（受付9:30～16:00） \n会場｜水戸芸術館 \n【エントランスホール】子どもの絵本 こしょこしょ市（Li:ttle、オヨヨ書林）\nこしょ（古書）の販売コーナーです。本との出会いを楽しんで。 \n 
URL:https://oyoyoshorin.net/event/koshokosho_mito_2025/
CATEGORIES:イベントのご案内,古本市,出店・出品します
ATTACH;FMTTYPE=image/jpeg:https://oyoyoshorin.net/wp-content/uploads/2025/07/Opera-スナップショット_2025-07-23_193522_www.arttowermito.or_.jp_.jpg
END:VEVENT
BEGIN:VEVENT
DTSTART;VALUE=DATE:20250808
DTEND;VALUE=DATE:20250811
DTSTAMP:20260424T173325
CREATED:20250722T215102Z
LAST-MODIFIED:20250807T002301Z
UID:357201-1754611200-1754870399@oyoyoshorin.net
SUMMARY:出店します：第2回　夏の古本市・名古屋2025 @ 名古屋古書会館
DESCRIPTION:期間：2025年8月8日（金）～8月10（日） \n場所：名古屋古書会館 \n名古屋市中区千代田5-1-12 \n※鶴舞駅から徒歩6分 \nTEL 052-241-6232 \n好評につき今年も開催決定！ \n総勢18の古本屋さんが参加!今年はナイター営業もありますよ～\n是非ご来場ください \n時間：10時〜20時(※最終日は17時まで) \n参加店：あおい屋、あとり文庫、A-BOOK、オヨヨ書林、古書さいとう、衣書店、STORE127、徒然舎、トンガ坂文庫、南部堂、BBR、一二三館書店、ビブリオマニア、フラワーハピネス、古本いるふ、古本屋ぽらん、まなみ古書店、山田堂
URL:https://oyoyoshorin.net/event/nagoya_huruhon_2025/
LOCATION:名古屋古書会館\, 中区千代田5-1-12\, 名古屋市\, 愛知県\, Japan
CATEGORIES:イベントのご案内,古本市,出店・出品します
ATTACH;FMTTYPE=image/jpeg:https://oyoyoshorin.net/wp-content/uploads/2025/07/A5たて_表面‗夏の古本市.jpg
END:VEVENT
BEGIN:VEVENT
DTSTART;VALUE=DATE:20250627
DTEND;VALUE=DATE:20250707
DTSTAMP:20260424T173325
CREATED:20250425T232419Z
LAST-MODIFIED:20250425T232449Z
UID:338256-1750982400-1751846399@oyoyoshorin.net
SUMMARY:出店します：四条寺町デパ地下古本市 2025.6.27-7.6@ 藤井大丸（京都）
DESCRIPTION:四条寺町デパ地下古本市 \n2025年6月27日(金)〜7月6日(日)　10:30-20:00 \n藤井大丸 地下1階 イベントスペース\n京都市下京区寺町通四条下ル貞安前之町605番地\nhttps://www.fujiidaimaru.co.jp/ \n参加店：\n空き瓶Books(京都)\nありの文庫(京都)\n古本いるふ(富山)\nLVDB BOOKS(大阪)\n古書 思いの外(京都)\nオヨヨ書林(金沢)\nON THE BOOKS(大阪)\n開風社 待賢ブックセンター(京都)\n小町書店(大阪)\n古書さいとう(富山)\n霜月文庫(京都)\nぜんまい(奈良)\n古書ダンデライオン(京都)\n徒然舍(岐皁)\ntoi books(大阪)\n古書 灯台(福井)\n八上書林(丹波)\n半月舎(彦根)\n古本屋ぽらん(伊勢)\nまなみ古書店(名古屋)\nマヤルカ古書店(京都)\nら・むだ書店(京都)\n古本屋ワールズエンズ・ガーデン(神戸) \n \nScreenshot
URL:https://oyoyoshorin.net/event/fujidai_202506/
LOCATION:藤井大丸\, 下京区寺町通四条下ル貞安前之町605番地\, 京都市\, Japan
CATEGORIES:イベントのご案内,古本市,出店・出品します
ATTACH;FMTTYPE=image/jpeg:https://oyoyoshorin.net/wp-content/uploads/2025/04/om0te1.jpg
END:VEVENT
BEGIN:VEVENT
DTSTART;VALUE=DATE:20250517
DTEND;VALUE=DATE:20250519
DTSTAMP:20260424T173325
CREATED:20250329T072419Z
LAST-MODIFIED:20250425T235924Z
UID:338161-1747440000-1747612799@oyoyoshorin.net
SUMMARY:出店します：第12回 BOOK DAY とやま @ 富山駅
DESCRIPTION:本で溢れる二日間！ \n2025年5月17日（土）・18日（日）
URL:https://oyoyoshorin.net/event/bookday_toyama_2025/
LOCATION:富山駅構内南北自由通路\, 明輪町１−２２５\, 富山市\, 富山県\, 日本
CATEGORIES:イベントのご案内,古本市,出店・出品します
ATTACH;FMTTYPE=image/jpeg:https://oyoyoshorin.net/wp-content/uploads/2025/03/BOOKDAYとやま_insta.jpg
END:VEVENT
BEGIN:VEVENT
DTSTART;VALUE=DATE:20250502
DTEND;VALUE=DATE:20250507
DTSTAMP:20260424T173325
CREATED:20250426T012330Z
LAST-MODIFIED:20250426T012741Z
UID:338264-1746144000-1746575999@oyoyoshorin.net
SUMMARY:出店します：春の山の湯 古本＆レコード市（彦根市）
DESCRIPTION:★春の山の湯 古本＆レコード市★ \n日時：2025年5月2日(金)～6日(火・祝) 会期中無休　12:00-18:00 \n場所：元・野村文具店（彦根市銀座町2-22）山の湯の向かいビル1階 \n主催：山の湯（半月舎・円盤） \n  \n参加店（50音順） \n・ありの文庫 (京都)　本 \n・あまかわ文庫（姫路）　本 \n・古本いるふ (富山)　本 \n・LVDB BOOKS (大阪)　本、レコード \n・円盤 (彦根)　レコード \n・古書思いの外 (京都)　本 \n・オヨヨ書林 (金沢)　本 \n・開風社 待賢ブックセンター (京都)　本 \n・CATNOISE（岐阜）　レコード \n・古書さいとう (富山)　本、レコード \n・サウンドパック（大阪）　レコード \n・100000tアローントコ（京都）　本、レコード \n・screw around（長浜）　レコード \n・Dan Sharly（安田謙一）　本、レコード \n・徒然舎（岐阜）　本 \n・古書 灯台（福井）　本 \n・初恋レコード（彦根）　レコード \n・パライソレコード（京都）　レコード \n・bullock books（栃木）本 \n・半月舎 (彦根)　本 \n・PEOPLE BOOKSTORE（つくば）　本 \n・古本屋ぽらん (伊勢)　本、レコード \n・（本）ぽんぽんぽん ホホホ座 交野店（大阪）　本、雑貨 \n・ルークとアスカタスナ　(四日市)　レコード
URL:https://oyoyoshorin.net/event/yamanoyu_2025/
CATEGORIES:イベントのご案内,古本市,出店・出品します
ATTACH;FMTTYPE=image/jpeg:https://oyoyoshorin.net/wp-content/uploads/2025/04/last_omote-1.jpg
END:VEVENT
BEGIN:VEVENT
DTSTART;VALUE=DATE:20250301
DTEND;VALUE=DATE:20250303
DTSTAMP:20260424T173326
CREATED:20250121T230528Z
LAST-MODIFIED:20250121T230528Z
UID:337734-1740787200-1740959999@oyoyoshorin.net
SUMMARY:出店します：岐阜駅 本の市 2025
DESCRIPTION:岐阜駅 本の市 2025 \n今春も開催！ \n3月1日(土)・2日(日)\nJR岐阜駅直結 アクティブG 2階3階 \n実力派古書店14店による古書市\n＋\n自由で多様な本と作り手に出会えるIndependent Publishing Market \n主催：BOOK POSSE（徒然舎・ON READING）
URL:https://oyoyoshorin.net/event/guhu_honnoichu2025/
CATEGORIES:イベントのご案内,古本市,出店・出品します
ATTACH;FMTTYPE=image/jpeg:https://oyoyoshorin.net/wp-content/uploads/2025/01/GhVIh0HbkAEO50O.jpeg
END:VEVENT
BEGIN:VEVENT
DTSTART;VALUE=DATE:20250210
DTEND;VALUE=DATE:20250331
DTSTAMP:20260424T173326
CREATED:20250121T225142Z
LAST-MODIFIED:20250121T225142Z
UID:337731-1739145600-1743379199@oyoyoshorin.net
SUMMARY:出店します：うつのみや書店の古書市 2025 冬 @ 香林坊東急スクエア
DESCRIPTION:恒例「うつのみや書店の古書市」を開催いたします。 \n小説、趣味・料理などの実用書、郷土の本、懐かしい雑誌、美術書… 入手困難な絶版本や、貴重な郷土史料、豪華な画集など、多数出品します。 \n一ヶ月ほどの長丁場ですので、期間中もどんどん補充予定です。\nこの機会に是非お求め下さい！ \n  \n会期：2025年2月10日（月） 〜 3月30日（日）\n会場：うつのみや書店 金沢香林坊店\n金沢市香林坊 2-1-1 香林坊東急スクエア B1F\n営業時間 10:00 ~ 20:00 定休日なし\nTEL : 076-234-8111 \n参加書店：一刻館、一誠堂能瀬書店、オヨヨ書林
URL:https://oyoyoshorin.net/event/utsunomiya202502/
LOCATION:うつのみや書店 金沢香林坊店\, 香林坊 2-1-1 香林坊東急スクエア B1F\, 金沢市\, 石川県\, 日本
CATEGORIES:イベントのご案内,古本市,出店・出品します
ATTACH;FMTTYPE=image/jpeg:https://oyoyoshorin.net/wp-content/uploads/2025/01/うつのみや古書市5.jpeg
END:VEVENT
BEGIN:VEVENT
DTSTART;VALUE=DATE:20241225
DTEND;VALUE=DATE:20250108
DTSTAMP:20260424T173326
CREATED:20241207T003149Z
LAST-MODIFIED:20241207T003657Z
UID:337506-1735084800-1736294399@oyoyoshorin.net
SUMMARY:出店します：冬の阪神 古書の市 @ 阪神梅田本店8階催場
DESCRIPTION:冬の阪神 古書の市 \n日時：12月25日（水）〜1月7日（火）（1月1日、2日は全館休業）\n会場：阪神梅田本店 8階催場 \n1月3日〜7日は、お年玉セールとして300円均一コーナーも設置されます！ \n  \n〈大阪〉 \n●古書ゆうらく \n●シアル \n●栞書房 \n●寸心堂書店 \n●大吉堂 \n●矢野書房 \n●矢野書房天満橋店 \n〈京都〉 \n●空き瓶Books \n●古書ダンデライオン \n●マヤルカ古書店 \n〈兵庫〉 \n●honeycombBOOKS* \n●ワールドエンズ・ガーデン \n〈三重〉 \n●古書屋ぽらん \n〈石川〉 \n●オヨヨ書林 \n〈富山〉 \n●古書さいとう \n●古本いるふ
URL:https://oyoyoshorin.net/event/hanshin202412/
LOCATION:阪神梅田本店 8階催場\, 北区梅田１丁目１３−１３\, 大阪市\, 大阪府\, 日本
CATEGORIES:イベントのご案内,古本市,出店・出品します
ATTACH;FMTTYPE=image/jpeg:https://oyoyoshorin.net/wp-content/uploads/2024/12/阪神フライヤー.jpg
END:VEVENT
BEGIN:VEVENT
DTSTART;TZID=Asia/Tokyo:20241129T103000
DTEND;TZID=Asia/Tokyo:20241208T200000
DTSTAMP:20260424T173326
CREATED:20241124T015022Z
LAST-MODIFIED:20241124T015151Z
UID:337374-1732876200-1733688000@oyoyoshorin.net
SUMMARY:出店します：四条寺町デパ地下古本市 2024冬@ 藤井大丸（京都）
DESCRIPTION:四条寺町デパ地下古本市 \n2024年11月29日(金)-12月8日(日)　10:30-20:00 \n藤井大丸 地下1階 イベントスペース\n京都市下京区寺町通四条下ル貞安前之町605番地\nhttps://www.fujiidaimaru.co.jp/ \nありの文庫 (京都)\n古本いるふ (富山)\nLVDB BOOKS (大阪)\n古書 思いの外 (京都)\nオヨヨ書林 (金沢)\nON THE BOOKS (大阪)\n開風社 待賢ブックセンター (京都)\n古書さいとう (富山)\n霜月文庫 (京都)\nぜんまい (奈良)\n古書ダンデライオン (京都)\ntoi books (大阪)\n八上書林 (丹波)\n半月舎 (彦根)\n古本屋ぽらん (伊勢)\nマヤルカ古書店 (京都)\n古本屋ワールドエンズ・ガーデン (神戸) \n  \nイラスト：林葵衣\nデザイン：中村香月
URL:https://oyoyoshorin.net/event/fujidai202412/
LOCATION:藤井大丸\, 下京区寺町通四条下ル貞安前之町605番地\, 京都市\, Japan
CATEGORIES:イベントのご案内,古本市,出店・出品します
ATTACH;FMTTYPE=image/png:https://oyoyoshorin.net/wp-content/uploads/2024/11/スクリーンショット-2024-10-22-16.32.28_0.png
END:VEVENT
BEGIN:VEVENT
DTSTART;VALUE=DATE:20241019
DTEND;VALUE=DATE:20241021
DTSTAMP:20260424T173326
CREATED:20241007T072549Z
LAST-MODIFIED:20241007T072549Z
UID:337052-1729296000-1729468799@oyoyoshorin.net
SUMMARY:出店します：円頓寺 本のさんぽみち 2024（名古屋）
DESCRIPTION:円頓寺　本のさんぽみち　2024\n10月19日（土）、20日（日） ＆　26日（土）、27日（日）\n会場：名古屋・円頓寺商店街 \n2年振りの出店です。\n名古屋の皆さん、よろしくお願いします。 \n※　当店は、10月19日、20日の2日間のみの出店になります
URL:https://oyoyoshorin.net/event/endoji2024/
LOCATION:円頓寺商店街
CATEGORIES:イベントのご案内,古本市,出店・出品します
ATTACH;FMTTYPE=image/jpeg:https://oyoyoshorin.net/wp-content/uploads/2024/10/GY8_EmzakAAFpkx.jpeg
END:VEVENT
BEGIN:VEVENT
DTSTART;VALUE=DATE:20240921
DTEND;VALUE=DATE:20240924
DTSTAMP:20260424T173326
CREATED:20240918T213550Z
LAST-MODIFIED:20240918T213940Z
UID:337023-1726876800-1727135999@oyoyoshorin.net
SUMMARY:出店します：いしかわ古書フェス 2024 @ 金沢駅もてなしドーム
DESCRIPTION:金沢駅もてなしドーム地下広場に、北陸の古書店が大集合！ \n■開催場所\n金沢駅東口・もてなしドーム地下広場 \n■開催日時\n9月21日（土）12時ー19時\n9月22日（日）9時－19時\n9月23日（月・祝）9時―17時 \n■出店者\nあうん堂本舗　一刻館　一誠堂能瀬書店\nオヨヨ書林　　加能屋書店　髙橋麻帆書店\n近八書房　古本 LOGOS　古書さいとう\nひらすま書房　古本いるふ　Underneath the tree\nキャロット　ブック・スピカ \n■主催\n石川県古書籍商組合 \n■後援\n北國新聞社　エフエム石川
URL:https://oyoyoshorin.net/event/ishikawa-kosho2024/
CATEGORIES:イベントのご案内,古本市,出店・出品します
ATTACH;FMTTYPE=image/jpeg:https://oyoyoshorin.net/wp-content/uploads/2024/09/koshofes2024.jpg
END:VEVENT
BEGIN:VEVENT
DTSTART;VALUE=DATE:20240905
DTEND;VALUE=DATE:20241021
DTSTAMP:20260424T173326
CREATED:20240813T225312Z
LAST-MODIFIED:20241007T072241Z
UID:313977-1725494400-1729468799@oyoyoshorin.net
SUMMARY:出店します：うつのみや書店の古書市 2024 夏 @ 香林坊東急スクエア
DESCRIPTION:恒例「うつのみや書店の古書市」を開催いたします。 \n小説、趣味・料理などの実用書、郷土の本、懐かしい雑誌、美術書… 入手困難な絶版本や、貴重な郷土史料、豪華な画集など、多数出品します。 \n一ヶ月ほどの長丁場ですので、期間中もどんどん補充予定です。\nこの機会に是非お求め下さい！ \n  \n会期：2024年9月5日（木） 〜 10月14日（月・祝）\n好評のため、10月20日（日）まで延長決定！！\n会場：うつのみや書店 金沢香林坊店\n金沢市香林坊 2-1-1 香林坊東急スクエア B1F\n営業時間 10:00 ~ 20:00 定休日なし\nTEL : 076-234-8111 \n参加書店：一刻館、一誠堂能瀬書店、オヨヨ書林
URL:https://oyoyoshorin.net/event/utsunomiya2024summer/
LOCATION:うつのみや書店 金沢香林坊店\, 香林坊 2-1-1 香林坊東急スクエア B1F\, 金沢市\, 石川県\, 日本
CATEGORIES:イベントのご案内,古本市,出店・出品します
ATTACH;FMTTYPE=image/jpeg:https://oyoyoshorin.net/wp-content/uploads/2024/08/utsunomiya202409.jpg
END:VEVENT
BEGIN:VEVENT
DTSTART;VALUE=DATE:20240821
DTEND;VALUE=DATE:20240827
DTSTAMP:20260424T173326
CREATED:20240723T061659Z
LAST-MODIFIED:20240813T224932Z
UID:313914-1724198400-1724716799@oyoyoshorin.net
SUMMARY:出店します：夏の阪神 古書ノ市 @ 阪神百貨店梅田本店
DESCRIPTION:阪神百貨店・夏の阪神古書ノ市 \n日時：2024年8月21日（水）〜 26日（月）\n会場：阪神百貨店梅田本店 8階催場 \n国内 外の文学書や趣味、マンガなど、多彩な古書を一堂にあつめた『夏の阪神古書ノ市』が今年も開催。今回は、特撮やアニメ、映画のパンフレット、雑誌なども登場します。この夏のお気に入りの1冊を探しにぜひお越しくださいませ。
URL:https://oyoyoshorin.net/event/hanshin_2024summer/
CATEGORIES:イベントのご案内,古本市,出店・出品します
ATTACH;FMTTYPE=image/png:https://oyoyoshorin.net/wp-content/uploads/2024/07/img_event_240716_02.png
END:VEVENT
BEGIN:VEVENT
DTSTART;VALUE=DATE:20240525
DTEND;VALUE=DATE:20240527
DTSTAMP:20260424T173326
CREATED:20240521T091000Z
LAST-MODIFIED:20240521T091335Z
UID:313682-1716595200-1716767999@oyoyoshorin.net
SUMMARY:出店します：第11回 BOOK DAY とやま @ 富山駅構内
DESCRIPTION:今年で、11回目となるBOOK DAY とやまは、今年も富山駅を会場に、5月25日（土）～5月26日（日）の2日間開催いたします！\n今年のブックデイも、北陸の古書店はもちろん、東海、関西などの県外の古書店が大集結！ \n新刊書店、リトルプレス、そしてレコード店もそろい、年に１度の本のお祭りの開催です！
URL:https://oyoyoshorin.net/event/%e5%87%ba%e5%ba%97%e3%81%97%e3%81%be%e3%81%99%ef%bc%9a%e7%ac%ac10%e5%9b%9e-book-day-%e3%81%a8%e3%82%84%e3%81%be-%e5%af%8c%e5%b1%b1%e9%a7%85%e6%a7%8b%e5%86%85-2/
LOCATION:富山駅構内南北自由通路\, 明輪町１−２２５\, 富山市\, 富山県\, 日本
CATEGORIES:イベントのご案内,古本市,出店・出品します
ATTACH;FMTTYPE=image/jpeg:https://oyoyoshorin.net/wp-content/uploads/2024/05/BOOKDAYとやま_flyerA5_omote.jpg
END:VEVENT
BEGIN:VEVENT
DTSTART;VALUE=DATE:20240225
DTEND;VALUE=DATE:20240301
DTSTAMP:20260424T173326
CREATED:20240225T100556Z
LAST-MODIFIED:20240225T101421Z
UID:304292-1708819200-1709251199@oyoyoshorin.net
SUMMARY:せせらぎ通り店・閉店セールのお知らせ
DESCRIPTION:【せせらぎ通り店・閉店セール】\n2024年 2月25日（日）〜2月29日（木）まで \n1点：1割引\n2点：2割引\n3点以上：3割引 \n2月26日（月）も営業します。\n営業時間も11時-20時に延長します。 \n最後まで何卒よろしくお願いいたします。
URL:https://oyoyoshorin.net/event/seseragi/
LOCATION:オヨヨ書林　せせらぎ通り店\, 長町1-6-11\, 金沢市\, 石川県\, 9200865\, 日本
CATEGORIES:イベントのご案内,古本市
ATTACH;FMTTYPE=image/jpeg:https://oyoyoshorin.net/wp-content/uploads/2024/02/ダウンロード-1.jpeg
END:VEVENT
BEGIN:VEVENT
DTSTART;VALUE=DATE:20240203
DTEND;VALUE=DATE:20240311
DTSTAMP:20260424T173326
CREATED:20240111T150000Z
LAST-MODIFIED:20240227T233830Z
UID:301872-1706918400-1710115199@oyoyoshorin.net
SUMMARY:出店します：2024 新春 うつのみや書店の古書市 @ 香林坊東急スクエア
DESCRIPTION:恒例「うつのみや書店の古書市」を開催いたします。 \n小説、趣味・料理などの実用書、郷土の本、懐かしい雑誌、美術書… 入手困難な絶版本や、貴重な郷土史料、豪華な画集など、多数出品します。 \n一ヶ月ほどの長丁場ですので、期間中もどんどん補充予定です。\nこの機会に是非お求め下さい！ \n  \n会期：2024年2月3日（土） 〜 3月10日（日）\n会場：うつのみや書店 金沢香林坊店\n金沢市香林坊 2-1-1 香林坊東急スクエア B1F\n営業時間 10:00 ~ 20:00 定休日なし（期間中、2月7日、8日は店休日）\nTEL : 076-234-8111 \n参加書店：古本一刻館、一誠堂能瀬書店、オヨヨ書林 \n※ この古本市の売上の一部を、今回の能登半島地震の被害にあった珠洲・輪島の新刊書店への義援金として寄付いたします。
URL:https://oyoyoshorin.net/event/utsunomiya2024_2/
LOCATION:うつのみや書店 金沢香林坊店\, 香林坊 2-1-1 香林坊東急スクエア B1F\, 金沢市\, 石川県\, 日本
CATEGORIES:イベントのご案内,古本市,出店・出品します
ATTACH;FMTTYPE=image/png:https://oyoyoshorin.net/wp-content/uploads/2024/01/kosho.png
END:VEVENT
BEGIN:VEVENT
DTSTART;TZID=Asia/Tokyo:20231229T000000
DTEND;TZID=Asia/Tokyo:20240108T235959
DTSTAMP:20260424T173326
CREATED:20231227T150000Z
LAST-MODIFIED:20240123T023137Z
UID:301871-1703808000-1704758399@oyoyoshorin.net
SUMMARY:出店します：山の湯 古本＆レコード市（彦根市）
DESCRIPTION:おめでとう！山の湯 古本＆レコード市\n・場所　滋賀県彦根市中央町7-33\n・日時　2023.12.29 金-2024.1.8 月祝\n期間中無休、12:00-18:00\n・お問合せやイベントのお申込み\nyamanoyu.hikone@gmail.com\n・主催　円盤／半月舎 \n♨️ \n夏より増えた出店者さんは全国津々浦々から本レコ合わせて26店舗&豪華ゲスト出店！\n〈古本出店〉 半月舎(彦根)／(本)ぽんぽんぽん(大阪)／LVDB BOOKS(大阪)／古本いるふ(富山)／待賢ブック・センター(京都)／古本屋ぽらん(伊勢)／古書さいとう(富山)／徒然舎(岐阜)／ありの文庫(京都)／古書思いの外(京都)／100000tアローントコ(京都)／オヨヨ書林(金沢)\n〈レコード出店〉 円盤(東京)/黒猫(長野)／初恋レコード(彦根)／screw around(彦根)／ROOK RECORDS(四日市)／アスカタスナ・レコード(埼玉)／ナカ2号店(大阪)／サウンドパック(大阪)／ダウンタウンレコード(東京)／mole music(奈良)／パライソ・レコード(京都)／Kレコード(東京)／JRecords(兵庫)／よしたろう@(大阪)／ゲスト出店：湯浅学、安田謙一 \n♨️\n◎イベント｜各日18:30～/料金 1\,500円\n12/29金 DJ KAZZMATAZZ、WAKKI、RALPH\n1/2火 レコード寄席（レコ寄席のみ料金1\,000円、商品券1\,000円付き）\n1/4木 湯浅学＋安田謙一トーク with HORA AUDIO\n1/5金 松野泉ライブ \n◎営業中にはいろんな人がDJやっています。\n12/30土 ほんわかディスコ\n1/3水 DJ : YoiYoi、Sergio Rorinandes\n1/4木 DJ : DJスプーン、DJfukushima\n1/6土 DJ : kenzy、パライソレコード、skylark\n1/7日 シークレットorナッシング\n1/8月 DJ : mole musicミツキ、珍庫唱片、田口史人 \n◎飲食出店\n12/29金 開風社 待賢ブックセンター （チャイ屋） @kaifushabooks\n1/2火\,3水 genzai （ぜんざい、コーヒー） @genzai_gokasho @at_thesalon_genzai\n1/8月ななばけ食堂 （パンとポトフ） @buttikuson \n◎1日出店　1/5金マメイケダ （絵やグッズ） @mame_ikeda
URL:https://oyoyoshorin.net/event/yamanoyu2023/
CATEGORIES:イベントのご案内,古本市,出店・出品します
ATTACH;FMTTYPE=image/jpeg:https://oyoyoshorin.net/wp-content/uploads/2023/12/411260435_382923057464281_849104871987941255_n.jpg
END:VEVENT
BEGIN:VEVENT
DTSTART;TZID=Asia/Tokyo:20231223T000000
DTEND;TZID=Asia/Tokyo:20231229T235959
DTSTAMP:20260424T173326
CREATED:20231223T150000Z
LAST-MODIFIED:20240123T023330Z
UID:301870-1703289600-1703894399@oyoyoshorin.net
SUMMARY:出店します：歳末阪神古書ノ市 2023 @ 阪神梅田本店
DESCRIPTION:歳末 阪神古書ノ市 \n◎12月23日(土)→29日(金)\n<最終日は午後5時まで>\n◎８階 催事場 \n古書店など約20店が大集合! お店を巡って、ページをめくって、心揺さぶる1冊をその手に。\n12月26日(火)からは懐かしい週刊少年漫画や 少女漫画、セットコミックなども ラインアップ! \nさらに！ \n300円均一 歲末感謝ワゴンセール開催！ \n◎12月26日(火)→29日(金)\n<最終日は午後3時まで> \n  \n<<出店リスト>>\n「古書ゆうらく」\nX @koshoyuuraku \n「寸心堂書店」\nX @sunshindo \n「栞書房(大阪)」\nX @shiorishobou \n「シアル」 \n「矢野書房」(大阪)\nX @yanoshobo \n「矢野書房天満橋店」(大阪) \n「大吉堂」(大阪)\nX @toyritz \n「古書ダンデライオン」(京都)\nX @koshodandelion \n「空き瓶Books」(京都)\nX @akibinbooks \n「マヤルカ古書店」(京都)\nX @mayaruka_kosyo \n「honeycombBOOKS*」(兵庫)\nX @honeycombbooks \n「ワールドエンズ・ガーデン」(兵庫)\nX @worldendsgarden \n「花森書林」(兵庫)\nInstagram ＠hanamori_books \n「清泉堂書店」(兵庫)\nX @seisendou \n「古本屋ぽらん」(三重)\nX @huruhonyaporan \n「トンガ坂文庫」(三重)\nInstagram @tongazaka_bunko_ \n「granne308 books&gallery」\nInstagram @granne308 \n「オヨヨ書林」(石川)\nX @oyoyoshorin \n「古本いるふ」(富山)\nInstagram @furuhon_iruf \n「古書さいとう」\nX @huruhonyasaito \n「旧須磨張り子館」 \n「SUS ～くらしと本のみせ スウス～」\nX @sus_books\n※12月26日(火)→29日(金)のみの出店
URL:https://oyoyoshorin.net/event/hanshin2023/
CATEGORIES:イベントのご案内,古本市,出店・出品します
ATTACH;FMTTYPE=image/jpeg:https://oyoyoshorin.net/wp-content/uploads/2023/12/2ca331758ff940b7c2d3a501ea197111c3c6e157.jpg
END:VEVENT
BEGIN:VEVENT
DTSTART;TZID=Asia/Tokyo:20231201T000000
DTEND;TZID=Asia/Tokyo:20231203T235959
DTSTAMP:20260424T173326
CREATED:20231127T150000Z
LAST-MODIFIED:20240123T023728Z
UID:301869-1701388800-1701647999@oyoyoshorin.net
SUMMARY:出店します：グッド・バイちくさ正文館　本の市
DESCRIPTION:グッド・バイちくさ正文館　本の市 \n【会期】　2023年12月1日（金） ～3日（日）11:00～17：00 \n【会場】　ちくさ正文館本店ビル1階南エリア（広小路通側） \n名古屋市千種区内山三丁目28-1 \n【主催】　株式会社ちくさ正文館書店・本のさんぽみち実行委員会 \n【内容】（11/10現在。今後、変更があり次第、随時更新していきます） \n  \n◆ちくさ正文館で本さんぽ \n選りすぐりの古書店が自信をもっておススメする良書が、ちくさ正文館書店の書棚を占拠します！ \n【東海】 \n神無月書店（名古屋）、古書からすうり（三重）、千机書房（名古屋）、 \n徒然舎（岐阜）、猫飛横丁（名古屋）、古本屋ぽらん（三重）、granne308 books & gallery（三重） \n【東京】 \n古書ほうろう（東京） \n【関西】 \n古書思いの外（京都）、半月舎（滋賀）with 円盤、町家古本はんのき（京都） \n【北陸】 \nオヨヨ書林（石川）、古本いるふ（富山）、古書さいとう（富山） \n  \n◆ちくさ正文館本店在庫ラストセール \n岩波書店を中心に様々な理由で残った本店在庫を今回に限り放出します。文房具についても大幅値引きで販売します。 \n  \n◆写真でふりかえるちくさ正文館本店 \n創業当時の様子をはじめ、様々な企画展の様子などを記録した貴重な写真を展示します。 \n  \n◆写真（スライドショー）でふりかえる名古屋シネマテーク（企画：名古屋シネマテーク写真展実行委員会） \n今池といえば、映画館、レコードショップ、古書店、ライブハウスなど、名古屋のユースカルチャーの先端を担うエリアでした。惜しくも7月末に閉館した名古屋シネマテークはその重要な一画を占め、ちくさ正文館書店とも作品封切に合わせた様々なコラボレーションを行なったことで多くの方の記憶に残っていることと思います。今回、名古屋シネマテーク様の許可を得て、貴重な写真等を「あのやり方」でスライド上映することとなりました。是非、ご覧ください（ループ上映、観覧無料）。 \n（追記）実行委員のSariさんが、本企画への思いをnoteに記されています。ぜひご覧ください。コチラ！ \n※ちくさ正文館本店建物をめぐるツアー（チラシ掲載の本企画については、現時点で開催未定となっています。申し訳ございません） \n【同時開催】 \nちくさ正文館　古田一晴と名古屋アートシーン展
URL:https://oyoyoshorin.net/event/chikusa/
CATEGORIES:イベントのご案内,古本市,出店・出品します
ATTACH;FMTTYPE=image/jpeg:https://oyoyoshorin.net/wp-content/uploads/2023/11/469c3ee8fb4e4b1bf02f3bc31f859bd3_e5417ea9fdafe773292a6d928f5b7ddf-1536x691-1.jpg
END:VEVENT
BEGIN:VEVENT
DTSTART;TZID=Asia/Tokyo:20231007T000000
DTEND;TZID=Asia/Tokyo:20231009T235959
DTSTAMP:20260424T173326
CREATED:20230920T150000Z
LAST-MODIFIED:20240123T025235Z
UID:301863-1696636800-1696895999@oyoyoshorin.net
SUMMARY:出店します：いしかわ古書フェス 2023 @ 金沢駅もてなしドーム
DESCRIPTION:金沢駅もてなしドーム地下広場に、北陸の古書店が大集合！ \n■開催場所\n金沢駅東口・もてなしドーム地下広場 \n■開催日時\n10月7日（土）13時ー19時\n10月8日（日）9時－19時\n10月9日（月・祝）9時―17時 \n■出店者\nあうん堂本舗　一刻館　一誠堂能瀬書店\nオヨヨ書林　金澤20世紀書房\n加能屋書店　コメ書房　髙橋麻帆書店\n近八書房　ビートマニア　BOOKS Nanuk\n古本 LOGOS 古書 Duckbill\nUnderneath the tree \n■主催\n石川県古書籍商組合 \n■後援\n北國新聞社　エフエム石川
URL:https://oyoyoshorin.net/event/ishikawa-kosho2023/
CATEGORIES:イベントのご案内,古本市,出店・出品します
ATTACH;FMTTYPE=image/jpeg:https://oyoyoshorin.net/wp-content/uploads/2023/09/F4xYOS0bcAEIIru.jpeg
END:VEVENT
BEGIN:VEVENT
DTSTART;TZID=Asia/Tokyo:20230910T000000
DTEND;TZID=Asia/Tokyo:20231011T235959
DTSTAMP:20260424T173326
CREATED:20230828T150000Z
LAST-MODIFIED:20240123T034149Z
UID:301862-1694304000-1697068799@oyoyoshorin.net
SUMMARY:出店します：うつのみや書店の古書市 2023 夏 @ 香林坊東急スクエア
DESCRIPTION:恒例「うつのみや書店の古書市」を開催いたします。 \n小説、趣味・料理などの実用書、郷土の本、懐かしい雑誌、美術書… 入手困難な絶版本や、貴重な郷土史料、豪華な画集など、多数出品します。 \n一ヶ月ほどの長丁場ですので、期間中もどんどん補充予定です。\nこの機会に是非お求め下さい！ \n  \n会期：2023年9月10日（日） 〜 10月11日（水）\n会場：うつのみや書店 金沢香林坊店\n金沢市香林坊 2-1-1 香林坊東急スクエア B1F\n営業時間 10:00 ~ 20:00 定休日なし\nTEL : 076-234-8111 \n参加書店：一誠堂能瀬書店、オヨヨ書林
URL:https://oyoyoshorin.net/event/utsunomiya2023-9/
CATEGORIES:イベントのご案内,古本市,出店・出品します
ATTACH;FMTTYPE=image/png:https://oyoyoshorin.net/wp-content/uploads/2023/08/ポスター_0730.png
END:VEVENT
BEGIN:VEVENT
DTSTART;TZID=Asia/Tokyo:20230623T000000
DTEND;TZID=Asia/Tokyo:20230702T000000
DTSTAMP:20260424T173326
CREATED:20240123T041815Z
LAST-MODIFIED:20240125T091949Z
UID:302923-1687478400-1688256000@oyoyoshorin.net
SUMMARY:出店します：四条寺町デパ地下古本市 @ 藤井大丸（京都）
DESCRIPTION:四条寺町デパ地下古本市 \n6月23日(金) ～ 7月2日(日)\n藤井大丸・B1F EVENT SPACE \n地下古本市vol.5を期間限定開催。\n今回も多彩な19の古書店が関西北陸から集結。\n文芸・芸術・サブカルなどオールジャンルを取り揃えます。\nまた、ポスターや古道具、各店舗のオリジナルグッズなども展開いたします。 \n京都の中心、四条寺町の地下で\nアンダーグラウンドなブックハンティングをお楽しみください。 \nイラスト：スケラッコ、デザイン：中村香月 \n【参加店】\n空き瓶Books (京都)\nありの文庫 (京都)\n古本いるふ (富山)\nLVDB BOOKS (大阪)\n古書 思いの外 (京都)\nオヨヨ書林 (金沢)\nON THE BOOKS (大阪)\n開風社 待賢ブックセンター (京都)\n小町書店 (大阪)\n霜月文庫 (京都)\n寸心堂書店 (大阪)\nぜんまい (奈良)\n大吉堂 (大阪)\n古書ダンデライオン (京都)\n八上書林 (丹波)\n半月舎 (彦根)\n古本屋ぽらん (伊勢)\n(本)ぽんぽんぽん ホホホ座交野店 (大阪)\n古本屋ワールドエンズ・ガーデン (神戸)\nマヤルカ古書店 (京都)
URL:https://oyoyoshorin.net/event/%e5%87%ba%e5%ba%97%e3%81%97%e3%81%be%e3%81%99%ef%bc%9a%e5%9b%9b%e6%9d%a1%e5%af%ba%e7%94%ba%e3%83%87%e3%83%91%e5%9c%b0%e4%b8%8b%e5%8f%a4%e6%9c%ac%e5%b8%82-%e8%97%a4%e4%ba%95%e5%a4%a7%e4%b8%b8-4/
CATEGORIES:イベントのご案内,古本市,出店・出品します
END:VEVENT
END:VCALENDAR